BEGIN:VCALENDAR
VERSION:2.0
PRODID:-//Soukromá školka Mateřská umělecká školka MuŠka - ECPv6.2.3.2//NONSGML v1.0//EN
CALSCALE:GREGORIAN
METHOD:PUBLISH
X-WR-CALNAME:Soukromá školka Mateřská umělecká školka MuŠka
X-ORIGINAL-URL:https://muskaskolka.cz
X-WR-CALDESC:Akce na Soukromá školka Mateřská umělecká školka MuŠka
REFRESH-INTERVAL;VALUE=DURATION:PT1H
X-Robots-Tag:noindex
X-PUBLISHED-TTL:PT1H
BEGIN:VTIMEZONE
TZID:Europe/Prague
BEGIN:DAYLIGHT
TZOFFSETFROM:+0100
TZOFFSETTO:+0200
TZNAME:CEST
DTSTART:20240331T010000
END:DAYLIGHT
BEGIN:STANDARD
TZOFFSETFROM:+0200
TZOFFSETTO:+0100
TZNAME:CET
DTSTART:20241027T010000
END:STANDARD
END:VTIMEZONE
BEGIN:VEVENT
DTSTART;TZID=Europe/Prague:20241127T080000
DTEND;TZID=Europe/Prague:20241127T170000
DTSTAMP:20260420T064109
CREATED:20241127T182145Z
LAST-MODIFIED:20241127T192424Z
UID:39250-1732694400-1732726800@muskaskolka.cz
SUMMARY:Kalendář - pokus
DESCRIPTION:Halloweeen ve školce
URL:https://muskaskolka.cz/event/kalendar-pokus/
ATTACH;FMTTYPE=image/jpeg:https://muskaskolka.cz/wp-content/uploads/2024/11/IMG_0716.jpg
END:VEVENT
END:VCALENDAR